BEGIN:VCALENDAR
VERSION:2.0
PRODID:-//Step By Step - ECPv6.6.4.2//NONSGML v1.0//EN
CALSCALE:GREGORIAN
METHOD:PUBLISH
X-WR-CALNAME:Step By Step
X-ORIGINAL-URL:https://www.stepbystepclc.com
X-WR-CALDESC:Events for Step By Step
REFRESH-INTERVAL;VALUE=DURATION:PT1H
X-Robots-Tag:noindex
X-PUBLISHED-TTL:PT1H
BEGIN:VTIMEZONE
TZID:UTC
BEGIN:STANDARD
TZOFFSETFROM:+0000
TZOFFSETTO:+0000
TZNAME:UTC
DTSTART:20230101T000000
END:STANDARD
END:VTIMEZONE
BEGIN:VEVENT
DTSTART;TZID=UTC:20240506T080000
DTEND;TZID=UTC:20240510T170000
DTSTAMP:20260421T031017
CREATED:20230726T193105Z
LAST-MODIFIED:20230726T193105Z
UID:23103-1714982400-1715360400@www.stepbystepclc.com
SUMMARY:Teacher Appreciation Week
DESCRIPTION:
URL:https://www.stepbystepclc.com/event/teacher-appreciation-week/
END:VEVENT
BEGIN:VEVENT
DTSTART;TZID=UTC:20240419T080000
DTEND;TZID=UTC:20240422T170000
DTSTAMP:20260421T031017
CREATED:20230726T191547Z
LAST-MODIFIED:20230726T193722Z
UID:23102-1713513600-1713805200@www.stepbystepclc.com
SUMMARY:Spring Break
DESCRIPTION:Step-by-Step Closed
URL:https://www.stepbystepclc.com/event/step-by-step-closed-spring-break/
END:VEVENT
BEGIN:VEVENT
DTSTART;TZID=UTC:20240415T080000
DTEND;TZID=UTC:20240419T170000
DTSTAMP:20260421T031017
CREATED:20230726T184851Z
LAST-MODIFIED:20230726T191208Z
UID:23101-1713168000-1713546000@www.stepbystepclc.com
SUMMARY:Week of the Young Child
DESCRIPTION:Celebrating early learning\, young children\, teachers\, and their families
URL:https://www.stepbystepclc.com/event/week-of-the-young-child/
END:VEVENT
BEGIN:VEVENT
DTSTART;TZID=UTC:20240315T150000
DTEND;TZID=UTC:20240315T170000
DTSTAMP:20260421T031017
CREATED:20230726T182306Z
LAST-MODIFIED:20230726T182306Z
UID:23100-1710514800-1710522000@www.stepbystepclc.com
SUMMARY:St. Patrick's Day Parties
DESCRIPTION:
URL:https://www.stepbystepclc.com/event/st-patricks-day-parties/
END:VEVENT
BEGIN:VEVENT
DTSTART;TZID=UTC:20240228T100000
DTEND;TZID=UTC:20240228T120000
DTSTAMP:20260421T031017
CREATED:20230726T182125Z
LAST-MODIFIED:20230726T182125Z
UID:23099-1709114400-1709121600@www.stepbystepclc.com
SUMMARY:Grandparents Day
DESCRIPTION:
URL:https://www.stepbystepclc.com/event/grandparents-day/
END:VEVENT
BEGIN:VEVENT
DTSTART;TZID=UTC:20240214T150000
DTEND;TZID=UTC:20240214T180000
DTSTAMP:20260421T031017
CREATED:20230726T181713Z
LAST-MODIFIED:20230726T181713Z
UID:23098-1707922800-1707933600@www.stepbystepclc.com
SUMMARY:Valentine's Day
DESCRIPTION:
URL:https://www.stepbystepclc.com/event/valentines-day/
END:VEVENT
BEGIN:VEVENT
DTSTART;TZID=UTC:20240103T080000
DTEND;TZID=UTC:20240103T170000
DTSTAMP:20260421T031017
CREATED:20230726T174943Z
LAST-MODIFIED:20230726T175323Z
UID:23095-1704268800-1704301200@www.stepbystepclc.com
SUMMARY:Re-opens
DESCRIPTION:
URL:https://www.stepbystepclc.com/event/re-opens/
END:VEVENT
BEGIN:VEVENT
DTSTART;TZID=UTC:20230726T080000
DTEND;TZID=UTC:20230726T170000
DTSTAMP:20260421T031017
CREATED:20230726T204148Z
LAST-MODIFIED:20230726T204148Z
UID:23113-1690358400-1690390800@www.stepbystepclc.com
SUMMARY:TBD October Pumpkin Patch Field Trip
DESCRIPTION:
URL:https://www.stepbystepclc.com/event/tbd-october-pumpkin-patch-field-trip/
END:VEVENT
END:VCALENDAR